BEGIN:VCALENDAR
VERSION:2.0
PRODID:-//hacksw/handcal//NONSGML v1.0//EN
CALSCALE:GREGORIAN
BEGIN:VEVENT
ORGANIZER;CN=Lantheus Holdings, Inc.:MAILTO:no-reply@mail.gcs-web.com
DTEND:
UID:fab8a700-3995-49ed-b311-f221972138e6
DTSTAMP:1777128430
LOCATION:https://edge.media-server.com/mmc/p/n7nez7x2
DESCRIPTION:Event Details https://investor.lantheus.com/events/event-details/q1-2026-lantheus-earnings-conference-call\n\nWebcast: https://edge.media-server.com/mmc/p/n7nez7x2
URL;VALUE=URI:https://edge.media-server.com/mmc/p/n7nez7x2
SUMMARY:Lantheus Holdings, Inc. - Q1 2026 Lantheus Earnings Conference Call
DTSTART:20260507T120000Z
END:VEVENT
END:VCALENDAR